BEGIN:VCALENDAR
VERSION:2.0
PRODID:-//Autoescuela Bilbao MIKEL | Autoescuelas en Bilbao Líder - ECPv6.15.20//NONSGML v1.0//EN
CALSCALE:GREGORIAN
METHOD:PUBLISH
X-WR-CALNAME:Autoescuela Bilbao MIKEL | Autoescuelas en Bilbao Líder
X-ORIGINAL-URL:https://www.mikel.bz
X-WR-CALDESC:Eventos para Autoescuela Bilbao MIKEL | Autoescuelas en Bilbao Líder
REFRESH-INTERVAL;VALUE=DURATION:PT1H
X-Robots-Tag:noindex
X-PUBLISHED-TTL:PT1H
BEGIN:VTIMEZONE
TZID:Europe/Helsinki
BEGIN:DAYLIGHT
TZOFFSETFROM:+0200
TZOFFSETTO:+0300
TZNAME:EEST
DTSTART:20230326T010000
END:DAYLIGHT
BEGIN:STANDARD
TZOFFSETFROM:+0300
TZOFFSETTO:+0200
TZNAME:EET
DTSTART:20231029T010000
END:STANDARD
BEGIN:DAYLIGHT
TZOFFSETFROM:+0200
TZOFFSETTO:+0300
TZNAME:EEST
DTSTART:20240331T010000
END:DAYLIGHT
BEGIN:STANDARD
TZOFFSETFROM:+0300
TZOFFSETTO:+0200
TZNAME:EET
DTSTART:20241027T010000
END:STANDARD
BEGIN:DAYLIGHT
TZOFFSETFROM:+0200
TZOFFSETTO:+0300
TZNAME:EEST
DTSTART:20250330T010000
END:DAYLIGHT
BEGIN:STANDARD
TZOFFSETFROM:+0300
TZOFFSETTO:+0200
TZNAME:EET
DTSTART:20251026T010000
END:STANDARD
END:VTIMEZONE
BEGIN:VEVENT
DTSTART;TZID=Europe/Helsinki:20240924T000000
DTEND;TZID=Europe/Helsinki:20240925T235959
DTSTAMP:20260421T055328
CREATED:20240703T082127Z
LAST-MODIFIED:20240916T150532Z
UID:6216-1727136000-1727308799@www.mikel.bz
SUMMARY:RECUPERACIÓN DE PUNTOS PARCIAL
DESCRIPTION:Fechas: 24/09/24 + 25/09/24 \n\n\n\nHorarios: Martes\, de 14:00h a 21:00h + miércoles de 14:00h a 21:00h \n\n\n\nLugar: Autoescuela Mikel Santutxu – C/ Santutxu\, 41 – 48004 – Bilbao- Bizkaia \n\n\n\nTeléfono: 944 11 63 82
URL:https://www.mikel.bz/evento/recuperacion-de-puntos-parcial-i/
LOCATION:Autoescuela Mikel Santutxu\, Santutxu 41\, Bilbao\, Bizkaia\, 48004\, España
CATEGORIES:General,Parcial,Sensibilización y reeducación vial - Puntos
ATTACH;FMTTYPE=image/png:https://www.mikel.bz/wp-content/uploads/2022/11/icono-cursos-Mikel.png
END:VEVENT
END:VCALENDAR